BEGIN:VCALENDAR
VERSION:2.0
PRODID:-//linuxsoftware.nz//NONSGML Joyous v0.6//EN
BEGIN:VEVENT
SUMMARY:Monthly Meetings
DTSTART;TZID=Pacific/Auckland:20180306T183000
DTEND;TZID=Pacific/Auckland:20180306T200000
DTSTAMP:20181221T041221Z
UID:086188d4-f55f-4ecc-8d35-88b77163a5da
SEQUENCE:6
RRULE:FREQ=MONTHLY;UNTIL=20181106;BYDAY=+1TU;WKST=SU
EXDATE;TZID=Pacific/Auckland:20181002T183000
CREATED:20180304T230949Z
DESCRIPTION:<p></p>
LAST-MODIFIED:20181103T094415Z
LOCATION:6 Mackay St\, Greymouth (upstairs)
URL:http://linux.westcoast.org.nz/events/monthly-meetings/
END:VEVENT
BEGIN:VEVENT
SUMMARY:Initial Meetup
DTSTART;TZID=Pacific/Auckland:20180306T183000
DTEND;TZID=Pacific/Auckland:20180306T200000
DTSTAMP:20181221T041221Z
UID:086188d4-f55f-4ecc-8d35-88b77163a5da
RECURRENCE-ID;TZID=Pacific/Auckland:20180306T183000
SEQUENCE:2
CREATED:20180304T231553Z
DESCRIPTION:<p><embed alt="Don't fear the penguins" embedtype="image" form
 at="fullwidth" id="3"/><br/></p><p>I haven't got much prepared\, but still
  want to kick off\, so it'll be a low-key informal first meeting. Talking 
 about Linux\, what it is\, and what we want from this User Group. Followed
  by tea and coffee.</p>
LAST-MODIFIED:20180304T235433Z
LOCATION:6 Mackay St\, Greymouth (upstairs)
URL:http://linux.westcoast.org.nz/events/monthly-meetings/2018-03-06-extra
 -info/
END:VEVENT
BEGIN:VEVENT
SUMMARY:Anonymity Online
DTSTART;TZID=Pacific/Auckland:20180403T183000
DTEND;TZID=Pacific/Auckland:20180403T200000
DTSTAMP:20181221T041221Z
UID:086188d4-f55f-4ecc-8d35-88b77163a5da
RECURRENCE-ID;TZID=Pacific/Auckland:20180403T183000
SEQUENCE:3
CREATED:20180327T060618Z
DESCRIPTION:<p><embed alt="Privacy" embedtype="image" format="fullwidth" i
 d="5"/><br/></p><p>Andy will give a talk about anonymity online and things
  like <a href="https://www.torproject.org/">Tor</a>.  Followed by tea and
  coffee.</p>
LAST-MODIFIED:20180327T215040Z
LOCATION:6 Mackay St\, Greymouth (upstairs)
URL:http://linux.westcoast.org.nz/events/monthly-meetings/2018-04-03-extra
 -info/
END:VEVENT
BEGIN:VEVENT
SUMMARY:Automated Deployments - Ansible Demo
DTSTART;TZID=Pacific/Auckland:20180501T183000
DTEND;TZID=Pacific/Auckland:20180501T200000
DTSTAMP:20181221T041221Z
UID:086188d4-f55f-4ecc-8d35-88b77163a5da
RECURRENCE-ID;TZID=Pacific/Auckland:20180501T183000
SEQUENCE:4
CREATED:20180327T080431Z
DESCRIPTION:<p><embed alt="ansible" embedtype="image" format="fullwidth" i
 d="7"/><br/></p><p>David will give a demo of Ansible and talk about autom
 ated deployments.  Followed by tea and coffee.</p><hr/><br/><p><p>David'
 s slides from the talk: <a id="1" linktype="document">glug_ansible.odp</a>
 </p><p><p>Juergen's original slides: <a id="2" linktype="document">Ansibl
 e_v2.odp</a></p><p>David's example Ansible project: <a href="https://gith
 ub.com/linuxsoftware/ansible-example">ansible-example</a></p><p>Juergen's 
 example Ansible project: <a href="https://github.com/jbrendel/ansible_clus
 ter_setup">ansible_cluster_setup</a></p></p></p>
LAST-MODIFIED:20180501T093847Z
LOCATION:6 Mackay St\, Greymouth (upstairs)
URL:http://linux.westcoast.org.nz/events/monthly-meetings/2018-05-01-extra
 -info/
END:VEVENT
BEGIN:VEVENT
SUMMARY:LibreCAD Demo
DTSTART;TZID=Pacific/Auckland:20180605T183000
DTEND;TZID=Pacific/Auckland:20180605T200000
DTSTAMP:20181221T041221Z
UID:086188d4-f55f-4ecc-8d35-88b77163a5da
RECURRENCE-ID;TZID=Pacific/Auckland:20180605T183000
SEQUENCE:3
CREATED:20180402T215242Z
DESCRIPTION:<p><embed alt="LibreCAD" embedtype="image" format="fullwidth" 
 id="8"/><br/></p><p><a href="https://librecad.org/">LibreCAD</a> is a free
  Open Source CAD application for Windows\, Apple and Linux.  Richard wil
 l give a demonstration of how he is using LibreCAD to design the house he 
 is building.   Followed by tea and coffee.<br/></p><p>This will be an <
 a id="14" linktype="page">Beginner-level</a> talk\, "Suitable for those ju
 st starting out with Linux". Everyone is still very welcome\, we are just 
 letting you know so expectations are set correctly.<br/></p>
LAST-MODIFIED:20180530T231727Z
LOCATION:6 Mackay St\, Greymouth (upstairs)
URL:http://linux.westcoast.org.nz/events/monthly-meetings/2018-06-05-extra
 -info/
END:VEVENT
BEGIN:VEVENT
SUMMARY:Graphics
DTSTART;TZID=Pacific/Auckland:20180807T183000
DTEND;TZID=Pacific/Auckland:20180807T200000
DTSTAMP:20181221T041221Z
UID:086188d4-f55f-4ecc-8d35-88b77163a5da
RECURRENCE-ID;TZID=Pacific/Auckland:20180807T183000
SEQUENCE:2
CREATED:20180402T222126Z
DESCRIPTION:<p><embed alt="Graphics" embedtype="image" format="fullwidth" 
 id="9"/><br/></p><p>Creating graphics on Linux.  Using the Gimp/Inkscape/
 etc.  Followed by tea and coffee.</p>
LAST-MODIFIED:20180605T201205Z
LOCATION:6 Mackay St\, Greymouth (upstairs)
URL:http://linux.westcoast.org.nz/events/monthly-meetings/2018-08-07-extra
 -info/
END:VEVENT
BEGIN:VEVENT
SUMMARY:Computer Vision
DTSTART;TZID=Pacific/Auckland:20180703T183000
DTEND;TZID=Pacific/Auckland:20180703T200000
DTSTAMP:20181221T041221Z
UID:086188d4-f55f-4ecc-8d35-88b77163a5da
RECURRENCE-ID;TZID=Pacific/Auckland:20180703T183000
SEQUENCE:3
CREATED:20180607T202253Z
DESCRIPTION:<p></p><embed alt="computer vision" embedtype="image" format="
 fullwidth" id="20"/><p>Mike will share how <b>computer vision</b> makes a 
 cool project of his work. Followed by tea and coffee.</p><p>This will be a
 n <a id="14" linktype="page">Advanced-level talk</a>\, &quot\;Could get te
 chnical. Will include code.&quot\; Everyone is still very welcome\, and th
 ere is plenty of eye-candy to look at\, we are just letting you know so ex
 pectations are set correctly.</p>
LAST-MODIFIED:20180628T125923Z
LOCATION:6 Mackay St\, Greymouth (upstairs)
URL:http://linux.westcoast.org.nz/events/monthly-meetings/2018-07-03-extra
 -info/
END:VEVENT
BEGIN:VEVENT
SUMMARY:Accessibility with Linux
DTSTART;TZID=Pacific/Auckland:20180904T183000
DTEND;TZID=Pacific/Auckland:20180904T200000
DTSTAMP:20181221T041221Z
UID:086188d4-f55f-4ecc-8d35-88b77163a5da
RECURRENCE-ID;TZID=Pacific/Auckland:20180904T183000
SEQUENCE:1
CREATED:20180902T222920Z
DESCRIPTION:<p></p><embed alt="Accessibility with Linux" embedtype="image"
  format="fullwidth" id="22"/><p></p><p>Andy will share Linux alternatives 
 for the blind or vision impaired.  Followed by tea and coffee.</p>
LAST-MODIFIED:20180902T222920Z
LOCATION:6 Mackay St\, Greymouth (upstairs)
URL:http://linux.westcoast.org.nz/events/monthly-meetings/2018-09-04-extra
 -info/
END:VEVENT
BEGIN:VEVENT
SUMMARY:Cacophony Project
DTSTART;TZID=Pacific/Auckland:20181106T183000
DTEND;TZID=Pacific/Auckland:20181106T200000
DTSTAMP:20181221T041221Z
UID:086188d4-f55f-4ecc-8d35-88b77163a5da
RECURRENCE-ID;TZID=Pacific/Auckland:20181106T183000
SEQUENCE:5
CREATED:20181003T204041Z
DESCRIPTION:<p></p><embed alt="The Cacophony Project" embedtype="image" fo
 rmat="fullwidth" id="56"/><p>The Cacophony Project aims to protect our nat
 ive birds and bring back a healthy dawn chorus using smart technology and 
 machine learning.</p><p></p><p>Their main product\, the &quot\;Cacophonato
 r&quot\;\, is an open-source Linux device that uploads thermal video to th
 eir servers in the cloud. With this device they have learnt a lot about pr
 edator behaviour. They are now in the process of building new and improved
  predator capturing systems.</p><p></p><p>On Tuesday 6 November we are for
 tunate to have Clare McLennan\, Cacophony software developer\, joining us 
 via teleconference to tell us more about the project and technology.</p>
LAST-MODIFIED:20181005T000814Z
LOCATION:6 Mackay St\, Greymouth (upstairs)
URL:http://linux.westcoast.org.nz/events/monthly-meetings/2018-11-06-extra
 -info/
END:VEVENT
BEGIN:VEVENT
SUMMARY:Linux Conference
DTSTART;TZID=Pacific/Auckland:20190121T000000
DTEND;TZID=Pacific/Auckland:20190125T235959
DTSTAMP:20181221T041221Z
UID:9fb500c8-1553-471f-b2e5-7cff1558d428
SEQUENCE:7
CREATED:20181116T193310Z
DESCRIPTION:<p>Over on the other coast\, Christchurch is hosting the <a hr
 ef="https://linux.conf.au/">2019 L.C.A.</a> - Australasia&#x27\;s regional
  Linux and Open Source conference.</p><p></p><p>Themed Linux of Things\, t
 he 2019 linux.conf.au will again attract speakers and attendees from acros
 s the world to socialise\, fraternise\, lecture\, listen\, ask\, answer an
 d share with their peers. The conference will explore the use of free open
  source software and hardware for internet of things devices\, along with 
 security concerns\, privacy and legal aspects\, environmental impacts\, ev
 eryday communication\, health\, ethics\, and much more.</p><p></p><p>Hope 
 to see some other West Coasters there.</p>
LAST-MODIFIED:20181116T194706Z
LOCATION:University of Canterbury\, Christchurch
URL:http://linux.westcoast.org.nz/events/linuxconf/
END:VEVENT
BEGIN:VTIMEZONE
TZID:Pacific/Auckland
BEGIN:DAYLIGHT
DTSTART;VALUE=DATE-TIME:20170924T030000
RDATE:20180930T030000
TZNAME:NZDT
TZOFFSETFROM:+1200
TZOFFSETTO:+1300
END:DAYLIGHT
BEGIN:STANDARD
DTSTART;VALUE=DATE-TIME:20180401T020000
RDATE:20190407T020000
TZNAME:NZST
TZOFFSETFROM:+1300
TZOFFSETTO:+1200
END:STANDARD
END:VTIMEZONE
END:VCALENDAR
